BEGIN:VCALENDAR
VERSION:2.0
PRODID:-//Tag der offenen Tür - Eigentumswohnung //FR
BEGIN:VEVENT
DTSTAMP:20260421T150030Z
DTSTART:20260506T170000
DTEND:20260506T180000
SUMMARY:Tag der offenen Tür - Eigentumswohnung 
DESCRIPTION:Tag der offenen Tür - Eigentumswohnung  - https://www.dreamo.ch/de/o/mieten-eigentumswohnung-rolle-5961193
LOCATION:Av. de Beaulieu 16, 1180 Rolle
END:VEVENT
END:VCALENDAR