BEGIN:VCALENDAR
VERSION:2.0
PRODID:-//Open doors - Condominium apartment //FR
BEGIN:VEVENT
DTSTAMP:20260421T161845Z
DTSTART:20260429T170000
DTEND:20260429T180000
SUMMARY:Open doors - Condominium apartment 
DESCRIPTION:Open doors - Condominium apartment  - https://www.dreamo.ch/en/o/rent-condominium-apartment-rolle-5961193
LOCATION:Av. de Beaulieu 16, 1180 Rolle
END:VEVENT
END:VCALENDAR