BEGIN:VCALENDAR
VERSION:2.0
PRODID:-//Portes ouvertes - Appartement PPE //FR
BEGIN:VEVENT
DTSTAMP:20260421T150135Z
DTSTART:20260506T170000
DTEND:20260506T180000
SUMMARY:Portes ouvertes - Appartement PPE 
DESCRIPTION:Portes ouvertes - Appartement PPE  - https://www.dreamo.ch/fr/o/louer-appartement-ppe-rolle-5961193
LOCATION:Av. de Beaulieu 16, 1180 Rolle
END:VEVENT
END:VCALENDAR