BEGIN:VCALENDAR
VERSION:2.0
PRODID:-//Giornata porte aperte - Proprietà per piani //FR
BEGIN:VEVENT
DTSTAMP:20260421T152519Z
DTSTART:20260429T170000
DTEND:20260429T180000
SUMMARY:Giornata porte aperte - Proprietà per piani 
DESCRIPTION:Giornata porte aperte - Proprietà per piani  - https://www.dreamo.ch/it/o/affittare-proprieta-per-piani-rolle-5961193
LOCATION:Av. de Beaulieu 16, 1180 Rolle
END:VEVENT
END:VCALENDAR